BEGIN:VCALENDAR
VERSION:2.0
PRODID:-//Capital Area Narcotics Anonymous - ECPv6.15.3//NONSGML v1.0//EN
CALSCALE:GREGORIAN
METHOD:PUBLISH
X-WR-CALNAME:Capital Area Narcotics Anonymous
X-ORIGINAL-URL:https://capitalareancna.com
X-WR-CALDESC:Events for Capital Area Narcotics Anonymous
REFRESH-INTERVAL;VALUE=DURATION:PT1H
X-Robots-Tag:noindex
X-PUBLISHED-TTL:PT1H
BEGIN:VTIMEZONE
TZID:America/New_York
BEGIN:DAYLIGHT
TZOFFSETFROM:-0500
TZOFFSETTO:-0400
TZNAME:EDT
DTSTART:20260308T070000
END:DAYLIGHT
BEGIN:STANDARD
TZOFFSETFROM:-0400
TZOFFSETTO:-0500
TZNAME:EST
DTSTART:20261101T060000
END:STANDARD
END:VTIMEZONE
BEGIN:VEVENT
DTSTART;TZID=America/New_York:20260110T150000
DTEND;TZID=America/New_York:20260110T220000
DTSTAMP:20260424T083710
CREATED:20251209T190615Z
LAST-MODIFIED:20251209T190615Z
UID:4146-1768057200-1768082400@capitalareancna.com
SUMMARY:Step Out of the Old and into the New
DESCRIPTION:
URL:https://capitalareancna.com/event-calendar/step-out-of-the-old-and-into-the-new
LOCATION:Fairmont United Methodist Church\, 2501 Clark AVe\, Raleigh\, NC\, 27607\, United States
END:VEVENT
BEGIN:VEVENT
DTSTART;TZID=America/New_York:20260117T100000
DTEND;TZID=America/New_York:20260117T170000
DTSTAMP:20260424T083710
CREATED:20251213T152301Z
LAST-MODIFIED:20251213T152301Z
UID:4151-1768644000-1768669200@capitalareancna.com
SUMMARY:NC Region CAR Workshop
DESCRIPTION:January 17th 2026 \nNC Region CAR Workshop\nHosted by the NC Region\n10am EST \nZoom Link: https://zoom.us/j/97421369107\nZoom ID: 974 2136 9107
URL:https://capitalareancna.com/event-calendar/nc-region-car-workshop
LOCATION:Zoom
END:VEVENT
BEGIN:VEVENT
DTSTART;TZID=America/New_York:20260203T200000
DTEND;TZID=America/New_York:20260203T210000
DTSTAMP:20260424T083710
CREATED:20260115T083821Z
LAST-MODIFIED:20260115T083821Z
UID:4171-1770148800-1770152400@capitalareancna.com
SUMMARY:Tuesday Night Live Group Anniversary Night
DESCRIPTION:TUESDAY NIGHT LIVE Home Group \nAnniversary Night – multiple home group members are celebrating! Dessert and coffee will be served. Hope you’ll join us!! \n\nGreenwood Forest Baptist Church \n\n110 SE Maynard Rd\, Cary\, NC  27511\n(Kilmayne Street entrance)
URL:https://capitalareancna.com/event-calendar/tuesday-night-live-group-anniversary-night
LOCATION:Greenwood Forest Baptist Church\, 110 SE Maynard Rd\, Cary\, NC\, 27511\, United States
END:VEVENT
BEGIN:VEVENT
DTSTART;TZID=America/New_York:20260214T170000
DTEND;TZID=America/New_York:20260214T220000
DTSTAMP:20260424T083710
CREATED:20260127T152830Z
LAST-MODIFIED:20260203T191002Z
UID:4189-1771088400-1771106400@capitalareancna.com
SUMMARY:Unity of Love a Red & White Affair
DESCRIPTION:
URL:https://capitalareancna.com/event-calendar/4189
LOCATION:Fairmont United Methodist Church\, 2501 Clark AVe\, Raleigh\, NC\, 27607\, United States
END:VEVENT
BEGIN:VEVENT
DTSTART;TZID=America/New_York:20260221T100000
DTEND;TZID=America/New_York:20260221T140000
DTSTAMP:20260424T083710
CREATED:20260205T220822Z
LAST-MODIFIED:20260214T130920Z
UID:4197-1771668000-1771682400@capitalareancna.com
SUMMARY:The CAR and CAT Workshop
DESCRIPTION:  \n \nThe CAR and CAT Workshop \nHosted by CASC RCM \nZoom Meeting ID:  814 0528 0277 \nPasscode:  subcomit \n 
URL:https://capitalareancna.com/event-calendar/the-car-and-cap-workshop
LOCATION:Zoom
END:VEVENT
BEGIN:VEVENT
DTSTART;TZID=America/New_York:20260224T180000
DTEND;TZID=America/New_York:20260224T203000
DTSTAMP:20260424T083710
CREATED:20251209T190958Z
LAST-MODIFIED:20260211T171027Z
UID:4148-1771956000-1771965000@capitalareancna.com
SUMMARY:Principals B4 Personalities Group 37th Anniversary
DESCRIPTION:
URL:https://capitalareancna.com/event-calendar/principals-b4-personalities-group-37th-anniversary
LOCATION:Saint Ambrose Church\, 813 Darby St\, Raleigh\, NC\, 27601
END:VEVENT
BEGIN:VEVENT
DTSTART;TZID=America/New_York:20260307T130000
DTEND;TZID=America/New_York:20260307T170000
DTSTAMP:20260424T083710
CREATED:20260205T222512Z
LAST-MODIFIED:20260205T222512Z
UID:4203-1772888400-1772902800@capitalareancna.com
SUMMARY:The CAPITAL AREA in COLOR
DESCRIPTION:
URL:https://capitalareancna.com/event-calendar/the-capital-area-in-color
LOCATION:Fairmont United Methodist Church\, 2501 Clark AVe\, Raleigh\, NC\, 27607\, United States
END:VEVENT
BEGIN:VEVENT
DTSTART;TZID=America/New_York:20260321T170000
DTEND;TZID=America/New_York:20260321T220000
DTSTAMP:20260424T083710
CREATED:20260219T055520Z
LAST-MODIFIED:20260219T055520Z
UID:4221-1774112400-1774130400@capitalareancna.com
SUMMARY:NCCAFRNA - Annual Sponsorship Dinner/Dance
DESCRIPTION:  \n  \n  \n  \n  \n  \nTickets $25\n$30 at the door
URL:https://capitalareancna.com/event-calendar/nccafrna-annual-sponsorship-dinner-dance
LOCATION:Fairmont United Methodist Church\, 2501 Clark AVe\, Raleigh\, NC\, 27607\, United States
END:VEVENT
BEGIN:VEVENT
DTSTART;TZID=America/New_York:20260516T123000
DTEND;TZID=America/New_York:20260516T123000
DTSTAMP:20260424T083710
CREATED:20260411T041010Z
LAST-MODIFIED:20260411T041010Z
UID:4248-1778934600-1778934600@capitalareancna.com
SUMMARY:Clean Date Speaker Jam & Dance
DESCRIPTION:
URL:https://capitalareancna.com/event-calendar/clean-date-speaker-jam-dance
LOCATION:Fairmont United Methodist Church\, 2501 Clark AVe\, Raleigh\, NC\, 27607\, United States
END:VEVENT
BEGIN:VEVENT
DTSTART;TZID=America/New_York:20260530T130000
DTEND;TZID=America/New_York:20260530T170000
DTSTAMP:20260424T083710
CREATED:20260417T000249Z
LAST-MODIFIED:20260417T000249Z
UID:4256-1780146000-1780160400@capitalareancna.com
SUMMARY:CASC LEARNING DAY
DESCRIPTION: 
URL:https://capitalareancna.com/event-calendar/casc-learning-day
LOCATION:Fairmont United Methodist Church\, 2501 Clark AVe\, Raleigh\, NC\, 27607\, United States
END:VEVENT
END:VCALENDAR